BEGIN:VCALENDAR
VERSION:2.0
PRODID:icalendar-ruby
CALSCALE:GREGORIAN
METHOD:PUBLISH
BEGIN:VEVENT
DTSTAMP:20260426T002528Z
UID:5-441734@stgeorgesdevon.ca
DTSTART:20260906T163000Z
DTEND:20260906T173000Z
CLASS:PUBLIC
CREATED:20260425T172614
DESCRIPTION:Sunday Worship
LAST-MODIFIED:20260425T172614
LOCATION:
SUMMARY:Sunday Worship
URL;VALUE=URI:https://stgeorgesdevon.ca/events/sunday-worship/2026-09-06
END:VEVENT
END:VCALENDAR
