BEGIN:VCALENDAR
VERSION:2.0
PRODID:icalendar-ruby
CALSCALE:GREGORIAN
METHOD:PUBLISH
BEGIN:VEVENT
DTSTAMP:20260425T214716Z
UID:5-441423@stgeorgesdevon.ca
DTSTART:20260823T163000Z
DTEND:20260823T173000Z
CLASS:PUBLIC
CREATED:20260425T144307
DESCRIPTION:Sunday Worship
LAST-MODIFIED:20260425T144307
LOCATION:
SUMMARY:Sunday Worship
URL;VALUE=URI:https://stgeorgesdevon.ca/events/sunday-worship/2026-08-23
END:VEVENT
END:VCALENDAR
