BEGIN:VCALENDAR
VERSION:2.0
PRODID:icalendar-ruby
CALSCALE:GREGORIAN
METHOD:PUBLISH
BEGIN:VEVENT
DTSTAMP:20260425T185642Z
UID:5-441112@stgeorgesdevon.ca
DTSTART:20260809T163000Z
DTEND:20260809T173000Z
CLASS:PUBLIC
CREATED:20260425T120134
DESCRIPTION:Sunday Worship
LAST-MODIFIED:20260425T120134
LOCATION:
SUMMARY:Sunday Worship
URL;VALUE=URI:https://stgeorgesdevon.ca/events/sunday-worship/2026-08-09
END:VEVENT
END:VCALENDAR
