BEGIN:VCALENDAR
VERSION:2.0
PRODID:icalendar-ruby
CALSCALE:GREGORIAN
METHOD:PUBLISH
BEGIN:VEVENT
DTSTAMP:20260425T172718Z
UID:5-440802@stgeorgesdevon.ca
DTSTART:20260802T163000Z
DTEND:20260802T173000Z
CLASS:PUBLIC
CREATED:20260425T092136
DESCRIPTION:Sunday Worship
LAST-MODIFIED:20260425T092136
LOCATION:
SUMMARY:Sunday Worship
URL;VALUE=URI:https://stgeorgesdevon.ca/events/sunday-worship/2026-08-02
END:VEVENT
END:VCALENDAR
