BEGIN:VCALENDAR
VERSION:2.0
PRODID:icalendar-ruby
CALSCALE:GREGORIAN
METHOD:PUBLISH
BEGIN:VEVENT
DTSTAMP:20260425T155138Z
UID:5-440801@stgeorgesdevon.ca
DTSTART:20260726T163000Z
DTEND:20260726T173000Z
CLASS:PUBLIC
CREATED:20260425T092136
DESCRIPTION:Sunday Worship
LAST-MODIFIED:20260425T092136
LOCATION:
SUMMARY:Sunday Worship
URL;VALUE=URI:https://stgeorgesdevon.ca/events/sunday-worship/2026-07-26
END:VEVENT
END:VCALENDAR
